BEGIN:VCALENDAR
VERSION:2.0
PRODID:-//Lazy River Playground and Retreat Center - ECPv6.15.15//NONSGML v1.0//EN
CALSCALE:GREGORIAN
METHOD:PUBLISH
X-ORIGINAL-URL:https://lazyriverplayground.com
X-WR-CALDESC:Events for Lazy River Playground and Retreat Center
REFRESH-INTERVAL;VALUE=DURATION:PT1H
X-Robots-Tag:noindex
X-PUBLISHED-TTL:PT1H
BEGIN:VTIMEZONE
TZID:America/Halifax
BEGIN:DAYLIGHT
TZOFFSETFROM:-0400
TZOFFSETTO:-0300
TZNAME:ADT
DTSTART:20250309T060000
END:DAYLIGHT
BEGIN:STANDARD
TZOFFSETFROM:-0300
TZOFFSETTO:-0400
TZNAME:AST
DTSTART:20251102T050000
END:STANDARD
BEGIN:DAYLIGHT
TZOFFSETFROM:-0400
TZOFFSETTO:-0300
TZNAME:ADT
DTSTART:20260308T060000
END:DAYLIGHT
BEGIN:STANDARD
TZOFFSETFROM:-0300
TZOFFSETTO:-0400
TZNAME:AST
DTSTART:20261101T050000
END:STANDARD
BEGIN:DAYLIGHT
TZOFFSETFROM:-0400
TZOFFSETTO:-0300
TZNAME:ADT
DTSTART:20270314T060000
END:DAYLIGHT
BEGIN:STANDARD
TZOFFSETFROM:-0300
TZOFFSETTO:-0400
TZNAME:AST
DTSTART:20271107T050000
END:STANDARD
END:VTIMEZONE
BEGIN:VEVENT
DTSTART;TZID=America/Halifax:20260814T170000
DTEND;TZID=America/Halifax:20260814T200000
DTSTAMP:20260420T060252
CREATED:20260329T111405Z
LAST-MODIFIED:20260329T114751Z
UID:1023-1786726800-1786737600@lazyriverplayground.com
SUMMARY:Friday Skate Night
DESCRIPTION:Come and roller skate with us at Lazy River!!  Join us for some fun for all ages.\n$10 – Roller Skate         $5 – ages 5 and under \n$5 -Mini-Golf per person – unlimited rounds
URL:https://lazyriverplayground.com/calendar/friday-skate-night-12/
LOCATION:Lazy River Playground and Retreat Center\, 456 Lazy River Road\, Hermon\, NY\, 13652\, United States
CATEGORIES:Open Skate Night
ATTACH;FMTTYPE=image/jpeg:https://lazyriverplayground.com/wp-content/uploads/2026/03/Skate-Night.jpg
ORGANIZER;CN="Lazy River Playground":MAILTO:lazyriverplayground@gmail.com
END:VEVENT
BEGIN:VEVENT
DTSTART;TZID=America/Halifax:20260828T170000
DTEND;TZID=America/Halifax:20260828T200000
DTSTAMP:20260420T060252
CREATED:20260329T111731Z
LAST-MODIFIED:20260329T111731Z
UID:1025-1787936400-1787947200@lazyriverplayground.com
SUMMARY:Friday Skate Night
DESCRIPTION:Come and roller skate with us at Lazy River!!  Join us for some fun for all ages.\n$10 – Roller Skate         $5 – ages 5 and under \n$5 -Mini-Golf per person – unlimited rounds
URL:https://lazyriverplayground.com/calendar/friday-skate-night-13/
LOCATION:Lazy River Playground and Retreat Center\, 456 Lazy River Road\, Hermon\, NY\, 13652\, United States
CATEGORIES:Open Skate Night
ATTACH;FMTTYPE=image/jpeg:https://lazyriverplayground.com/wp-content/uploads/2026/03/Skate-Night.jpg
ORGANIZER;CN="Lazy River Playground":MAILTO:lazyriverplayground@gmail.com
END:VEVENT
BEGIN:VEVENT
DTSTART;TZID=America/Halifax:20260911T170000
DTEND;TZID=America/Halifax:20260911T200000
DTSTAMP:20260420T060252
CREATED:20260329T111901Z
LAST-MODIFIED:20260329T111901Z
UID:1027-1789146000-1789156800@lazyriverplayground.com
SUMMARY:Friday Skate Night
DESCRIPTION:Come and roller skate with us at Lazy River!!  Join us for some fun for all ages.\n$10 – Roller Skate         $5 – ages 5 and under \n$5 -Mini-Golf per person – unlimited rounds
URL:https://lazyriverplayground.com/calendar/friday-skate-night-14/
LOCATION:Lazy River Playground and Retreat Center\, 456 Lazy River Road\, Hermon\, NY\, 13652\, United States
CATEGORIES:Open Skate Night
ATTACH;FMTTYPE=image/jpeg:https://lazyriverplayground.com/wp-content/uploads/2026/03/Skate-Night.jpg
ORGANIZER;CN="Lazy River Playground":MAILTO:lazyriverplayground@gmail.com
END:VEVENT
BEGIN:VEVENT
DTSTART;TZID=America/Halifax:20260913T090000
DTEND;TZID=America/Halifax:20260913T170000
DTSTAMP:20260420T060252
CREATED:20260320T130646Z
LAST-MODIFIED:20260320T130746Z
UID:1012-1789290000-1789318800@lazyriverplayground.com
SUMMARY:The Thrive! Retreat - Empowering those on their healing journey from cancer.
DESCRIPTION:The Thrive! Retreat is a nurturing and empowering experience designed for individuals on a healing journey from cancer. This restorative gathering offers a safe\, supportive space to reconnect with yourself\, build resilience\, and embrace renewed strength alongside others who understand your path. Through a blend of gentle wellness activities\, meaningful connection\, and guided reflection\, the retreat encourages physical\, emotional\, and spiritual renewal. Sponsored by the St. Lawrence County Cancer Fund\, this retreat is offered free of charge to all participants\, ensuring accessibility for anyone seeking support. To receive a registration form\, please contact Lazy River Playground and Retreat Center at retreatslazyriver@gmail.com. Whether you are newly navigating survivorship or continuing long-term healing\, Thrive! provides an opportunity to rest\, recharge\, and truly thrive.
URL:https://lazyriverplayground.com/calendar/the-thrive-retreat-empowering-those-on-their-healing-journey-from-cancer/
LOCATION:Lazy River Playground and Retreat Center\, 456 Lazy River Road\, Hermon\, NY\, 13652\, United States
ATTACH;FMTTYPE=image/png:https://lazyriverplayground.com/wp-content/uploads/2026/03/Thrive-Retreat-Event-Poster.png
ORGANIZER;CN="Lazy River Forest Therapy":MAILTO:lazyriverforesttherapy@gmail.com
END:VEVENT
BEGIN:VEVENT
DTSTART;TZID=America/Halifax:20260925T170000
DTEND;TZID=America/Halifax:20260925T200000
DTSTAMP:20260420T060252
CREATED:20260329T112026Z
LAST-MODIFIED:20260329T115032Z
UID:1029-1790355600-1790366400@lazyriverplayground.com
SUMMARY:Friday Skate Night
DESCRIPTION:Come and roller skate with us at Lazy River!!  Join us for some fun for all ages.\n$10 – Roller Skate         $5 – ages 5 and under \n$5 -Mini-Golf per person – unlimited rounds
URL:https://lazyriverplayground.com/calendar/friday-skate-night-15/
LOCATION:Lazy River Playground and Retreat Center\, 456 Lazy River Road\, Hermon\, NY\, 13652\, United States
CATEGORIES:Open Skate Night
ATTACH;FMTTYPE=image/jpeg:https://lazyriverplayground.com/wp-content/uploads/2026/03/Skate-Night.jpg
ORGANIZER;CN="Lazy River Playground":MAILTO:lazyriverplayground@gmail.com
END:VEVENT
BEGIN:VEVENT
DTSTART;TZID=America/Halifax:20261009T170000
DTEND;TZID=America/Halifax:20261009T200000
DTSTAMP:20260420T060252
CREATED:20260329T112155Z
LAST-MODIFIED:20260329T115123Z
UID:1031-1791565200-1791576000@lazyriverplayground.com
SUMMARY:Friday Skate Night
DESCRIPTION:Come and roller skate with us at Lazy River!!  Join us for some fun for all ages.\n$10 – Roller Skate         $5 – ages 5 and under \n$5 -Mini-Golf per person – unlimited rounds
URL:https://lazyriverplayground.com/calendar/friday-skate-night-16/
LOCATION:Lazy River Playground and Retreat Center\, 456 Lazy River Road\, Hermon\, NY\, 13652\, United States
CATEGORIES:Open Skate Night
ATTACH;FMTTYPE=image/jpeg:https://lazyriverplayground.com/wp-content/uploads/2026/03/Skate-Night.jpg
ORGANIZER;CN="Lazy River Playground":MAILTO:lazyriverplayground@gmail.com
END:VEVENT
BEGIN:VEVENT
DTSTART;TZID=America/Halifax:20261023T170000
DTEND;TZID=America/Halifax:20261023T200000
DTSTAMP:20260420T060252
CREATED:20260329T112710Z
LAST-MODIFIED:20260329T112710Z
UID:1033-1792774800-1792785600@lazyriverplayground.com
SUMMARY:The Final Friday Skate Night of 2026 - Halloween Costume Contest
DESCRIPTION:Join us for the final skate night of the season and enjoy some Halloween fun.  Come in costume!!  Prizes and Treats!\nCome and roller skate with us at Lazy River!!  Join us for some fun for all ages.\n$10 – Roller Skate         $5 – ages 5 and under \n$5 -Mini-Golf per person – unlimited rounds
URL:https://lazyriverplayground.com/calendar/the-final-friday-skate-night-of-2026-halloween-costume-contest/
LOCATION:Lazy River Playground and Retreat Center\, 456 Lazy River Road\, Hermon\, NY\, 13652\, United States
CATEGORIES:Open Skate Night
ATTACH;FMTTYPE=image/jpeg:https://lazyriverplayground.com/wp-content/uploads/2026/03/Skate-Night.jpg
ORGANIZER;CN="Lazy River Playground":MAILTO:lazyriverplayground@gmail.com
END:VEVENT
END:VCALENDAR